BEGIN:VCALENDAR
PRODID:-//github.com/rianjs/ical.net//NONSGML ical.net 4.0//EN
VERSION:2.0
BEGIN:VTIMEZONE
TZID:Eastern Standard Time
X-LIC-LOCATION:America/New_York
BEGIN:STANDARD
DTSTART:20241103T020000
RRULE:FREQ=YEARLY;BYDAY=1SU;BYMONTH=11
TZNAME:EST
TZOFFSETFROM:-0400
TZOFFSETTO:-0500
END:STANDARD
BEGIN:DAYLIGHT
DTSTART:20250309T020000
RRULE:FREQ=YEARLY;BYDAY=2SU;BYMONTH=3
TZNAME:EDT
TZOFFSETFROM:-0500
TZOFFSETTO:-0400
END:DAYLIGHT
END:VTIMEZONE
BEGIN:VEVENT
DESCRIPTION:Two-day online curriculum to launch a new autism support progr
 am.
DTEND;TZID=Eastern Standard Time:20260612T140000
DTSTAMP:20260423T222344Z
DTSTART;TZID=Eastern Standard Time:20260611T120000
LOCATION:Join Us Virtually
ORGANIZER;CN=College Autism Network;SENT-BY="mailto:info@collegeautismnetw
 ork.org":
SEQUENCE:0
SUMMARY:CAN: Square One 2026
UID:99fc5860-d3aa-4e4d-acf5-c8aedaff9809
END:VEVENT
END:VCALENDAR
