BEGIN:VCALENDAR
PRODID:-//github.com/rianjs/ical.net//NONSGML ical.net 4.0//EN
VERSION:2.0
BEGIN:VTIMEZONE
TZID:Eastern Standard Time
X-LIC-LOCATION:America/New_York
BEGIN:STANDARD
DTSTART:20241103T020000
RRULE:FREQ=YEARLY;BYDAY=1SU;BYMONTH=11
TZNAME:EST
TZOFFSETFROM:-0400
TZOFFSETTO:-0500
END:STANDARD
BEGIN:DAYLIGHT
DTSTART:20250309T020000
RRULE:FREQ=YEARLY;BYDAY=2SU;BYMONTH=3
TZNAME:EDT
TZOFFSETFROM:-0500
TZOFFSETTO:-0400
END:DAYLIGHT
END:VTIMEZONE
BEGIN:VEVENT
DESCRIPTION:Save the Date! And bookmark this site to stay informed.
DTEND;TZID=Eastern Standard Time:20261111T170000
DTSTAMP:20260423T222906Z
DTSTART;TZID=Eastern Standard Time:20261108T120000
LOCATION:Renaissance Baltimore HarborPlace Hotel 202 East Pratt Street Bal
 timore\, MD 21202 United States
ORGANIZER;CN=College Autism Network;SENT-BY="mailto:info@collegeautismnetw
 ork.org":
SEQUENCE:0
SUMMARY:CAN: 2026 College Autism Summit
UID:18b9d2c3-4eca-4a9c-bf53-c5fb0f70bb9e
END:VEVENT
END:VCALENDAR
